BEGIN:VCALENDAR
VERSION:2.0
PRODID:-//イルチブレインヨガ公式サイト - ECPv6.15.16//NONSGML v1.0//EN
CALSCALE:GREGORIAN
METHOD:PUBLISH
X-WR-CALNAME:イルチブレインヨガ公式サイト
X-ORIGINAL-URL:https://ilchibrainyoga.com
X-WR-CALDESC:イルチブレインヨガ公式サイト のイベント
REFRESH-INTERVAL;VALUE=DURATION:PT1H
X-Robots-Tag:noindex
X-PUBLISHED-TTL:PT1H
BEGIN:VTIMEZONE
TZID:Asia/Tokyo
BEGIN:STANDARD
TZOFFSETFROM:+0900
TZOFFSETTO:+0900
TZNAME:JST
DTSTART:20240101T000000
END:STANDARD
END:VTIMEZONE
BEGIN:VEVENT
DTSTART;TZID=Asia/Tokyo:20251202T123000
DTEND;TZID=Asia/Tokyo:20251231T210000
DTSTAMP:20260425T235641
CREATED:20251203T013636Z
LAST-MODIFIED:20251203T013636Z
UID:84071-1764678600-1767214800@ilchibrainyoga.com
SUMMARY:【膳所】12月　腸と脳から整うヨガ★体験会
DESCRIPTION:寝つきが悪い。。イライラ。。食欲が止まらない。。肌荒れが治らない。。\nその長引く不調、実は「脳と腸の根本的なバランス崩れ」が原因かもしれません。 \n腸は第2の脳とも言われ、腸が元気でないと、からだも心も抵抗力が弱くなってしまいます。 \n丹田、腸のエクササイズを通して全身の血流を促進することで、ストレスで固まった脳が心地よく目覚めていきます。\n緊張がほぐれ、楽な呼吸、深いリラックスを体験できます。 \n🍀めざすのは、水昇火降🍀\nお腹があたたかく、頭が涼しくスッキリした状態を「水昇火昇（すいしょうかこう）」と言います。\n人間の体だけでなく、地球上の自然界、植物、動物すべてに共通する健康の原理「水昇火降」を体感することで、体力、気力、脳力を回復していきます。 \n水昇火降になると。。\n🍀ストレスケア\n🍀お腹すっきり\n🍀リラックス効果\n🍀肩、腰スッキリ\n🍀柔軟性アップ\n🍀おなかぽかぽか\nを体感できるようになります✨ \n開催日時：\n火・木・金曜日　12時半〜14時\n火・金曜日 　   17時半〜19時\n土・日曜日　    14時〜15時半 \n★各回定員4名 要予約です★\n今なら体験者全員にもれなく【腸もみ】プレゼント！(12月末まで)\n※他の日時もお気軽にお問い合わせ下さい \n会場名：イルチブレインヨガ膳所スタジオ\n会場住所：大津市膳所2-1-8\n参加費：1000円\nご予約・お問い合わせ： 077-524-9050 \n\nLINEからのお申し込みはこちら⇒https://lin.ee/0mJI7FRS \n\n\n  \n\n\n\n\n	\n	\n	 \n	\n		\n			\n				ご予約内容\n						（必須）\n						\n				 \n			\n			\n				体験レッスンイベント体験レッスン+オーラ撮影オーラ撮影問合せ\n※ 入会予約はこちらからお申し込みください\n				 \n			\n		\n		\n			\n				お名前\n						（必須）\n						\n				 \n			\n			\n				\n				 \n			\n		\n		\n			\n				メールアドレス\n						（必須）\n						\n				 \n			\n			\n				\n※ 携帯電話のメールアドレスをご入力の際は、ドメイン指定の設定をされている場合”＠ilchibrainyoga.com”からのメールを受け取ることができるように設定してください。\n				 \n			\n		\n		\n			\n				お電話番号（携帯可）\n						（必須）\n						\n				 \n			\n			\n				イルチブレインヨガ各店舗からの連絡が可能な番号をご入力ください。\n\n				 \n			\n		\n		\n			\n				ご予約希望日時\n				 \n			\n			\n				ご予約希望日時をお選びください\n【希望日】タイムスケジュールに記載があるクラスからお選びください\n\n時間帯を選択してください10時台のクラス14時台のクラス19時台のクラス午前のイベント午後のイベント夜のイベント\n				 \n				※ ご予約状況等によりご希望の日時に添えない場合もございます。その際は事前に調整を行う連絡をさせていただきますので予めご了承ください。\n\n				 \n			\n		\n		\n			\n				こちらのスタジオを何でお知りになりましたか？\n						 （必須）\n						\n				 \n			\n			\n				チラシ看板書籍雑誌紹介Yahoo検索Google検索口コミその他Webサイト\n				 \n			\n		\n		\n			\n				ご関心があること、習得したいこと（複数可）\n				 \n			\n			\n				自然治癒力アップ集中力アップダイエット体質改善ストレス軽減丹田強化呼吸法瞑想法その他（備考欄にご入力ください）\n				 \n			\n		\n		\n			\n				備考欄\n				 \n			\n			\n				\n				 \n			\n		\n	\n	個人情報の取扱い\n		について、同意の上送信します。\n※ ご入力頂いた情報は、株式会社DAHN WORLD JAPANからのご案内をさせて頂く以外の目的では使用致しません。\n		\n	 \n	\n	\n	 \n	※ 送信ボタンを押すとすぐ送信されます。このページで入力内容を確認してください。\n\n自動で完了メールが配信されます。\n	 \nΔ \n\n\n\n株式会社ダンワールドジャパン
URL:https://ilchibrainyoga.com/event/zeze-13/
LOCATION:イルチブレインヨガ膳所スタジオ\, 膳所２丁目１−８\, 大津市\, 滋賀県\, 日本
CATEGORIES:滋賀,膳所
END:VEVENT
END:VCALENDAR